BEGIN:VCALENDAR
VERSION:2.0
PRODID:http://www.kufer.de/kuferweb / DE
METHOD:PUBLISH
CALSCALE:GREGORIAN
X-WR-TIMEZONE:Europe/Berlin
BEGIN:VTIMEZONE
TZID:Europe/Berlin
X-LIC-LOCATION:Europe/Berlin
BEGIN:DAYLIGHT
TZOFFSETFROM:+0100
TZOFFSETTO:+0200
TZNAME:CEST
DTSTART;TZID=Europe/Berlin:19700329T020000
RRULE:FREQ=YEARLY;INTERVAL=1;BYDAY=-1SU;BYMONTH=3
END:DAYLIGHT
BEGIN:STANDARD
TZOFFSETFROM:+0200
TZOFFSETTO:+0100
TZNAME:CET
DTSTART;TZID=Europe/Berlin:19701025T030000
RRULE:FREQ=YEARLY;INTERVAL=1;BYDAY=-1SU;BYMONTH=10
END:STANDARD
END:VTIMEZONE
BEGIN:VEVENT
DTSTAMP:20260422T174523
DTSTART;TZID=Europe/Berlin:20260218T080000
DTEND;TZID=Europe/Berlin:20260218T160000
UID:26-8-801-20260218T080000@FABIBAD MERGENTHEIM
SUMMARY:Elektrotechnisch unterwiesene Person (26-8-801) 
LOCATION:UFZ Niederstetten; Niederstetten Lehrsaal 1, Oberstetter Str. 10, 97996 Niederstetten
END:VEVENT
BEGIN:VEVENT
DTSTAMP:20260422T174523
DTSTART;TZID=Europe/Berlin:20260225T080000
DTEND;TZID=Europe/Berlin:20260225T160000
UID:26-8-801-20260225T080000@FABIBAD MERGENTHEIM
SUMMARY:Elektrotechnisch unterwiesene Person (26-8-801) 
LOCATION:UFZ Niederstetten; Niederstetten Elektrowerkstatt, Oberstetter Str. 10, 97996 Niederstetten
END:VEVENT
BEGIN:VEVENT
DTSTAMP:20260422T174523
DTSTART;TZID=Europe/Berlin:20260304T080000
DTEND;TZID=Europe/Berlin:20260304T160000
UID:26-8-801-20260304T080000@FABIBAD MERGENTHEIM
SUMMARY:Elektrotechnisch unterwiesene Person (26-8-801) 
LOCATION:UFZ Niederstetten; Niederstetten Elektrowerkstatt, Oberstetter Str. 10, 97996 Niederstetten
END:VEVENT
END:VCALENDAR