BEGIN:VCALENDAR
VERSION:2.0
PRODID:http://www.kufer.de/kuferweb / DE
METHOD:PUBLISH
CALSCALE:GREGORIAN
X-WR-TIMEZONE:Europe/Berlin
BEGIN:VTIMEZONE
TZID:Europe/Berlin
X-LIC-LOCATION:Europe/Berlin
BEGIN:DAYLIGHT
TZOFFSETFROM:+0100
TZOFFSETTO:+0200
TZNAME:CEST
DTSTART;TZID=Europe/Berlin:19700329T020000
RRULE:FREQ=YEARLY;INTERVAL=1;BYDAY=-1SU;BYMONTH=3
END:DAYLIGHT
BEGIN:STANDARD
TZOFFSETFROM:+0200
TZOFFSETTO:+0100
TZNAME:CET
DTSTART;TZID=Europe/Berlin:19701025T030000
RRULE:FREQ=YEARLY;INTERVAL=1;BYDAY=-1SU;BYMONTH=10
END:STANDARD
END:VTIMEZONE
BEGIN:VEVENT
DTSTAMP:20260422T154836
DTSTART;TZID=Europe/Berlin:20260622T080000
DTEND;TZID=Europe/Berlin:20260622T160000
UID:26-2-064-20260622T080000@FABIBAD MERGENTHEIM
SUMMARY:SPS Aufbaukurs (26-2-064) 
LOCATION:UFZ Niederstetten; Niederstetten Elektrotechnik, Oberstetter Str. 10, 97996 Niederstetten
END:VEVENT
BEGIN:VEVENT
DTSTAMP:20260422T154836
DTSTART;TZID=Europe/Berlin:20260623T080000
DTEND;TZID=Europe/Berlin:20260623T160000
UID:26-2-064-20260623T080000@FABIBAD MERGENTHEIM
SUMMARY:SPS Aufbaukurs (26-2-064) 
LOCATION:UFZ Niederstetten; Niederstetten Elektrotechnik, Oberstetter Str. 10, 97996 Niederstetten
END:VEVENT
BEGIN:VEVENT
DTSTAMP:20260422T154836
DTSTART;TZID=Europe/Berlin:20260624T080000
DTEND;TZID=Europe/Berlin:20260624T160000
UID:26-2-064-20260624T080000@FABIBAD MERGENTHEIM
SUMMARY:SPS Aufbaukurs (26-2-064) 
LOCATION:UFZ Niederstetten; Niederstetten Elektrotechnik, Oberstetter Str. 10, 97996 Niederstetten
END:VEVENT
BEGIN:VEVENT
DTSTAMP:20260422T154836
DTSTART;TZID=Europe/Berlin:20260625T080000
DTEND;TZID=Europe/Berlin:20260625T160000
UID:26-2-064-20260625T080000@FABIBAD MERGENTHEIM
SUMMARY:SPS Aufbaukurs (26-2-064) 
LOCATION:UFZ Niederstetten; Niederstetten Elektrotechnik, Oberstetter Str. 10, 97996 Niederstetten
END:VEVENT
BEGIN:VEVENT
DTSTAMP:20260422T154836
DTSTART;TZID=Europe/Berlin:20260626T080000
DTEND;TZID=Europe/Berlin:20260626T120000
UID:26-2-064-20260626T080000@FABIBAD MERGENTHEIM
SUMMARY:SPS Aufbaukurs (26-2-064) 
LOCATION:UFZ Niederstetten; Niederstetten Elektrotechnik, Oberstetter Str. 10, 97996 Niederstetten
END:VEVENT
BEGIN:VEVENT
DTSTAMP:20260422T154836
DTSTART;TZID=Europe/Berlin:20260629T080000
DTEND;TZID=Europe/Berlin:20260629T160000
UID:26-2-064-20260629T080000@FABIBAD MERGENTHEIM
SUMMARY:SPS Aufbaukurs (26-2-064) 
LOCATION:UFZ Niederstetten; Niederstetten Elektrotechnik, Oberstetter Str. 10, 97996 Niederstetten
END:VEVENT
BEGIN:VEVENT
DTSTAMP:20260422T154836
DTSTART;TZID=Europe/Berlin:20260630T080000
DTEND;TZID=Europe/Berlin:20260630T160000
UID:26-2-064-20260630T080000@FABIBAD MERGENTHEIM
SUMMARY:SPS Aufbaukurs (26-2-064) 
LOCATION:UFZ Niederstetten; Niederstetten Elektrotechnik, Oberstetter Str. 10, 97996 Niederstetten
END:VEVENT
BEGIN:VEVENT
DTSTAMP:20260422T154836
DTSTART;TZID=Europe/Berlin:20260701T080000
DTEND;TZID=Europe/Berlin:20260701T160000
UID:26-2-064-20260701T080000@FABIBAD MERGENTHEIM
SUMMARY:SPS Aufbaukurs (26-2-064) 
LOCATION:UFZ Niederstetten; Niederstetten Elektrotechnik, Oberstetter Str. 10, 97996 Niederstetten
END:VEVENT
BEGIN:VEVENT
DTSTAMP:20260422T154836
DTSTART;TZID=Europe/Berlin:20260702T080000
DTEND;TZID=Europe/Berlin:20260702T160000
UID:26-2-064-20260702T080000@FABIBAD MERGENTHEIM
SUMMARY:SPS Aufbaukurs (26-2-064) 
LOCATION:UFZ Niederstetten; Niederstetten Elektrotechnik, Oberstetter Str. 10, 97996 Niederstetten
END:VEVENT
BEGIN:VEVENT
DTSTAMP:20260422T154836
DTSTART;TZID=Europe/Berlin:20260703T080000
DTEND;TZID=Europe/Berlin:20260703T120000
UID:26-2-064-20260703T080000@FABIBAD MERGENTHEIM
SUMMARY:SPS Aufbaukurs (26-2-064) 
LOCATION:UFZ Niederstetten; Niederstetten Elektrotechnik, Oberstetter Str. 10, 97996 Niederstetten
END:VEVENT
BEGIN:VEVENT
DTSTAMP:20260422T154836
DTSTART;TZID=Europe/Berlin:20260706T080000
DTEND;TZID=Europe/Berlin:20260706T160000
UID:26-2-064-20260706T080000@FABIBAD MERGENTHEIM
SUMMARY:SPS Aufbaukurs (26-2-064) 
LOCATION:UFZ Niederstetten; Niederstetten Elektrotechnik, Oberstetter Str. 10, 97996 Niederstetten
END:VEVENT
BEGIN:VEVENT
DTSTAMP:20260422T154836
DTSTART;TZID=Europe/Berlin:20260707T080000
DTEND;TZID=Europe/Berlin:20260707T160000
UID:26-2-064-20260707T080000@FABIBAD MERGENTHEIM
SUMMARY:SPS Aufbaukurs (26-2-064) 
LOCATION:UFZ Niederstetten; Niederstetten Elektrotechnik, Oberstetter Str. 10, 97996 Niederstetten
END:VEVENT
BEGIN:VEVENT
DTSTAMP:20260422T154836
DTSTART;TZID=Europe/Berlin:20260708T080000
DTEND;TZID=Europe/Berlin:20260708T160000
UID:26-2-064-20260708T080000@FABIBAD MERGENTHEIM
SUMMARY:SPS Aufbaukurs (26-2-064) 
LOCATION:UFZ Niederstetten; Niederstetten Elektrotechnik, Oberstetter Str. 10, 97996 Niederstetten
END:VEVENT
BEGIN:VEVENT
DTSTAMP:20260422T154836
DTSTART;TZID=Europe/Berlin:20260709T080000
DTEND;TZID=Europe/Berlin:20260709T160000
UID:26-2-064-20260709T080000@FABIBAD MERGENTHEIM
SUMMARY:SPS Aufbaukurs (26-2-064) 
LOCATION:UFZ Niederstetten; Niederstetten Elektrotechnik, Oberstetter Str. 10, 97996 Niederstetten
END:VEVENT
BEGIN:VEVENT
DTSTAMP:20260422T154836
DTSTART;TZID=Europe/Berlin:20260710T080000
DTEND;TZID=Europe/Berlin:20260710T120000
UID:26-2-064-20260710T080000@FABIBAD MERGENTHEIM
SUMMARY:SPS Aufbaukurs (26-2-064) 
LOCATION:UFZ Niederstetten; Niederstetten Elektrotechnik, Oberstetter Str. 10, 97996 Niederstetten
END:VEVENT
END:VCALENDAR