BEGIN:VCALENDAR
VERSION:2.0
PRODID:http://www.kufer.de/kuferweb / DE
METHOD:PUBLISH
CALSCALE:GREGORIAN
X-WR-TIMEZONE:Europe/Berlin
BEGIN:VTIMEZONE
TZID:Europe/Berlin
X-LIC-LOCATION:Europe/Berlin
BEGIN:DAYLIGHT
TZOFFSETFROM:+0100
TZOFFSETTO:+0200
TZNAME:CEST
DTSTART;TZID=Europe/Berlin:19700329T020000
RRULE:FREQ=YEARLY;INTERVAL=1;BYDAY=-1SU;BYMONTH=3
END:DAYLIGHT
BEGIN:STANDARD
TZOFFSETFROM:+0200
TZOFFSETTO:+0100
TZNAME:CET
DTSTART;TZID=Europe/Berlin:19701025T030000
RRULE:FREQ=YEARLY;INTERVAL=1;BYDAY=-1SU;BYMONTH=10
END:STANDARD
END:VTIMEZONE
BEGIN:VEVENT
DTSTAMP:20260422T172832
DTSTART;TZID=Europe/Berlin:20251020T080000
DTEND;TZID=Europe/Berlin:20251020T160000
UID:25-8-203-20251020T080000@FABIBAD MERGENTHEIM
SUMMARY:Elektrofachkraft für festgelegte Tätigkeiten (25-8-203) 
LOCATION:ZfW Heilbronn, , 
END:VEVENT
BEGIN:VEVENT
DTSTAMP:20260422T172832
DTSTART;TZID=Europe/Berlin:20251021T080000
DTEND;TZID=Europe/Berlin:20251021T160000
UID:25-8-203-20251021T080000@FABIBAD MERGENTHEIM
SUMMARY:Elektrofachkraft für festgelegte Tätigkeiten (25-8-203) 
LOCATION:ZfW Heilbronn, , 
END:VEVENT
BEGIN:VEVENT
DTSTAMP:20260422T172832
DTSTART;TZID=Europe/Berlin:20251022T080000
DTEND;TZID=Europe/Berlin:20251022T160000
UID:25-8-203-20251022T080000@FABIBAD MERGENTHEIM
SUMMARY:Elektrofachkraft für festgelegte Tätigkeiten (25-8-203) 
LOCATION:ZfW Heilbronn, , 
END:VEVENT
BEGIN:VEVENT
DTSTAMP:20260422T172832
DTSTART;TZID=Europe/Berlin:20251023T080000
DTEND;TZID=Europe/Berlin:20251023T160000
UID:25-8-203-20251023T080000@FABIBAD MERGENTHEIM
SUMMARY:Elektrofachkraft für festgelegte Tätigkeiten (25-8-203) 
LOCATION:ZfW Heilbronn, , 
END:VEVENT
BEGIN:VEVENT
DTSTAMP:20260422T172832
DTSTART;TZID=Europe/Berlin:20251024T080000
DTEND;TZID=Europe/Berlin:20251024T160000
UID:25-8-203-20251024T080000@FABIBAD MERGENTHEIM
SUMMARY:Elektrofachkraft für festgelegte Tätigkeiten (25-8-203) 
LOCATION:ZfW Heilbronn, , 
END:VEVENT
BEGIN:VEVENT
DTSTAMP:20260422T172832
DTSTART;TZID=Europe/Berlin:20251027T080000
DTEND;TZID=Europe/Berlin:20251027T160000
UID:25-8-203-20251027T080000@FABIBAD MERGENTHEIM
SUMMARY:Elektrofachkraft für festgelegte Tätigkeiten (25-8-203) 
LOCATION:ZfW Heilbronn, , 
END:VEVENT
BEGIN:VEVENT
DTSTAMP:20260422T172832
DTSTART;TZID=Europe/Berlin:20251028T080000
DTEND;TZID=Europe/Berlin:20251028T160000
UID:25-8-203-20251028T080000@FABIBAD MERGENTHEIM
SUMMARY:Elektrofachkraft für festgelegte Tätigkeiten (25-8-203) 
LOCATION:ZfW Heilbronn, , 
END:VEVENT
BEGIN:VEVENT
DTSTAMP:20260422T172832
DTSTART;TZID=Europe/Berlin:20251029T080000
DTEND;TZID=Europe/Berlin:20251029T160000
UID:25-8-203-20251029T080000@FABIBAD MERGENTHEIM
SUMMARY:Elektrofachkraft für festgelegte Tätigkeiten (25-8-203) 
LOCATION:ZfW Heilbronn, , 
END:VEVENT
BEGIN:VEVENT
DTSTAMP:20260422T172832
DTSTART;TZID=Europe/Berlin:20251030T080000
DTEND;TZID=Europe/Berlin:20251030T160000
UID:25-8-203-20251030T080000@FABIBAD MERGENTHEIM
SUMMARY:Elektrofachkraft für festgelegte Tätigkeiten (25-8-203) 
LOCATION:ZfW Heilbronn, , 
END:VEVENT
BEGIN:VEVENT
DTSTAMP:20260422T172832
DTSTART;TZID=Europe/Berlin:20251031T080000
DTEND;TZID=Europe/Berlin:20251031T160000
UID:25-8-203-20251031T080000@FABIBAD MERGENTHEIM
SUMMARY:Elektrofachkraft für festgelegte Tätigkeiten (25-8-203) 
LOCATION:ZfW Heilbronn, , 
END:VEVENT
END:VCALENDAR